BEGIN:VCALENDAR
VERSION:2.0
PRODID:-//wp-events-plugin.com//7.2.3.1//EN
TZID:Europe/Paris
X-WR-TIMEZONE:Europe/Paris
BEGIN:VEVENT
UID:811@lucinges.fr
DTSTART;TZID=Europe/Paris;VALUE=DATE:20211001
DTEND;TZID=Europe/Paris;VALUE=DATE:20211101
DTSTAMP:20211019T090654Z
URL:https://lucinges.fr/sevader-a-lucinges/culture-et-animation/agenda/oct
 obre-rose/
SUMMARY:Octobre Rose
DESCRIPTION:La Commission Lien Social et les commerçants du village soutie
 nnent Octobre Rose.\n\nRendez-vous samedi 30 octobre sur le marché !\n\n&
 nbsp\;\n\n
CATEGORIES:Événement
LOCATION:Place des Anciennes Granges\,  \, Lucinges\, Région Rhône-Alpes\
 , 74380\, Haute-Savoie\, France
GEO:46.190742;6.318169
X-APPLE-STRUCTURED-LOCATION;VALUE=URI;X-ADDRESS= \, Lucinges\, Région Rhô
 ne-Alpes\, 74380\, Haute-Savoie\, France;X-APPLE-RADIUS=100;X-TITLE=Place 
 des Anciennes Granges:geo:46.190742,6.318169
END:VEVENT
BEGIN:VEVENT
UID:841@lucinges.fr
DTSTART;TZID=Europe/Paris:20211223T150000
DTEND;TZID=Europe/Paris:20211223T190000
DTSTAMP:20211217T154834Z
URL:https://lucinges.fr/sevader-a-lucinges/culture-et-animation/agenda/mar
 che/
SUMMARY:Marché
DESCRIPTION:Pour faire vos courses de Noël\, rendez-vous sur la marché je
 udi 23 décembre à partir de 15h.\n\nIl n'y aura pas de marché le samedi
  25 décembre ni le samedi 1er janvier.
CATEGORIES:Événement
LOCATION:Place des Anciennes Granges\,  \, Lucinges\, Région Rhône-Alpes\
 , 74380\, Haute-Savoie\, France
GEO:46.190742;6.318169
X-APPLE-STRUCTURED-LOCATION;VALUE=URI;X-ADDRESS= \, Lucinges\, Région Rhô
 ne-Alpes\, 74380\, Haute-Savoie\, France;X-APPLE-RADIUS=100;X-TITLE=Place 
 des Anciennes Granges:geo:46.190742,6.318169
END:VEVENT
BEGIN:VEVENT
UID:858@lucinges.fr
DTSTART;TZID=Europe/Paris:20220129T083000
DTEND;TZID=Europe/Paris:20220129T123000
DTSTAMP:20220124T091500Z
URL:https://lucinges.fr/sevader-a-lucinges/culture-et-animation/agenda/ren
 contre-avec-la-tac-pour-tout-savoir-sur-la-mobilite/
SUMMARY:Rencontre avec la TAC pour tout savoir sur la mobilité
DESCRIPTION:Pour tout savoir sur la mobilité et les nouvelles offres de TA
 D\, rendez-vous sur le marché ! La TAC se mobilise pour répondre à vos 
 questions !
ATTACH;FMTTYPE=image/jpeg:https://lucinges.fr/wp-content/uploads/2022/01/T
 AC-MARCHE-002.png
CATEGORIES:Événement
LOCATION:Place des Anciennes Granges\,  \, Lucinges\, Région Rhône-Alpes\
 , 74380\, Haute-Savoie\, France
GEO:46.190742;6.318169
X-APPLE-STRUCTURED-LOCATION;VALUE=URI;X-ADDRESS= \, Lucinges\, Région Rhô
 ne-Alpes\, 74380\, Haute-Savoie\, France;X-APPLE-RADIUS=100;X-TITLE=Place 
 des Anciennes Granges:geo:46.190742,6.318169
END:VEVENT
BEGIN:VEVENT
UID:1771@lucinges.fr
DTSTART;TZID=Europe/Paris:20231007T093000
DTEND;TZID=Europe/Paris:20231007T113000
DTSTAMP:20230918T093106Z
URL:https://lucinges.fr/sevader-a-lucinges/culture-et-animation/agenda/dec
 ouvrir-le-compostage-et-ses-mysteres/
SUMMARY:Découvrir le compostage et ses mystères
DESCRIPTION:
ATTACH;FMTTYPE=image/jpeg:https://lucinges.fr/wp-content/uploads/2023/09/L
 ogo-mystere.jpg
CATEGORIES:Événement
LOCATION:Place des Anciennes Granges\,  \, Lucinges\, Région Rhône-Alpes\
 , 74380\, Haute-Savoie\, France
GEO:46.190742;6.318169
X-APPLE-STRUCTURED-LOCATION;VALUE=URI;X-ADDRESS= \, Lucinges\, Région Rhô
 ne-Alpes\, 74380\, Haute-Savoie\, France;X-APPLE-RADIUS=100;X-TITLE=Place 
 des Anciennes Granges:geo:46.190742,6.318169
END:VEVENT
BEGIN:VEVENT
UID:1788@lucinges.fr
DTSTART;TZID=Europe/Paris:20231202T090000
DTEND;TZID=Europe/Paris:20231202T130000
DTSTAMP:20231120T125142Z
URL:https://lucinges.fr/sevader-a-lucinges/culture-et-animation/agenda/ven
 te-de-sapins-de-noel/
SUMMARY:Vente de sapins de Noël
DESCRIPTION:\n\nPrévente en ligne : https://www.helloasso.com/associations
 /les-enfants-de-lucinges/boutiques/sapin-de-noel
CATEGORIES:Événement
LOCATION:Place des Anciennes Granges\,  \, Lucinges\, Région Rhône-Alpes\
 , 74380\, Haute-Savoie\, France
GEO:46.190742;6.318169
X-APPLE-STRUCTURED-LOCATION;VALUE=URI;X-ADDRESS= \, Lucinges\, Région Rhô
 ne-Alpes\, 74380\, Haute-Savoie\, France;X-APPLE-RADIUS=100;X-TITLE=Place 
 des Anciennes Granges:geo:46.190742,6.318169
END:VEVENT
BEGIN:VEVENT
UID:1789@lucinges.fr
DTSTART;TZID=Europe/Paris:20231209T090000
DTEND;TZID=Europe/Paris:20231209T130000
DTSTAMP:20231207T215406Z
URL:https://lucinges.fr/sevader-a-lucinges/culture-et-animation/agenda/ven
 te-de-sapins-de-noel-2/
SUMMARY:Vente de sapins de Noël
DESCRIPTION:\n\nPrévente en ligne : https://www.helloasso.com/associations
 /les-enfants-de-lucinges/boutiques/sapin-de-noel
ATTACH;FMTTYPE=image/jpeg:https://lucinges.fr/wp-content/uploads/2023/11/A
 3-Vente-sapin-2023.jpg
CATEGORIES:Événement
LOCATION:Place des Anciennes Granges\,  \, Lucinges\, Région Rhône-Alpes\
 , 74380\, Haute-Savoie\, France
GEO:46.190742;6.318169
X-APPLE-STRUCTURED-LOCATION;VALUE=URI;X-ADDRESS= \, Lucinges\, Région Rhô
 ne-Alpes\, 74380\, Haute-Savoie\, France;X-APPLE-RADIUS=100;X-TITLE=Place 
 des Anciennes Granges:geo:46.190742,6.318169
END:VEVENT
BEGIN:VEVENT
UID:1790@lucinges.fr
DTSTART;TZID=Europe/Paris:20231216T090000
DTEND;TZID=Europe/Paris:20231216T130000
DTSTAMP:20231207T215431Z
URL:https://lucinges.fr/sevader-a-lucinges/culture-et-animation/agenda/ven
 te-de-sapins-de-noel-3/
SUMMARY:Vente de sapins de Noël
DESCRIPTION:\n\nPrévente en ligne : https://www.helloasso.com/associations
 /les-enfants-de-lucinges/boutiques/sapin-de-noel
ATTACH;FMTTYPE=image/jpeg:https://lucinges.fr/wp-content/uploads/2023/11/A
 3-Vente-sapin-2023.jpg
CATEGORIES:Événement
LOCATION:Place des Anciennes Granges\,  \, Lucinges\, Région Rhône-Alpes\
 , 74380\, Haute-Savoie\, France
GEO:46.190742;6.318169
X-APPLE-STRUCTURED-LOCATION;VALUE=URI;X-ADDRESS= \, Lucinges\, Région Rhô
 ne-Alpes\, 74380\, Haute-Savoie\, France;X-APPLE-RADIUS=100;X-TITLE=Place 
 des Anciennes Granges:geo:46.190742,6.318169
END:VEVENT
BEGIN:VEVENT
UID:2152@lucinges.fr
DTSTART;TZID=Europe/Paris:20251004T090000
DTEND;TZID=Europe/Paris:20251004T130000
DTSTAMP:20250930T134643Z
URL:https://lucinges.fr/sevader-a-lucinges/culture-et-animation/agenda/oct
 obre-rose-4/
SUMMARY:Octobre Rose
DESCRIPTION:
ATTACH;FMTTYPE=image/jpeg:https://lucinges.fr/wp-content/uploads/2025/09/l
 ucinges-octobrerose-2025-couverture-fb.jpg
CATEGORIES:Événement
LOCATION:Place des Anciennes Granges\,  \, Lucinges\, Région Rhône-Alpes\
 , 74380\, Haute-Savoie\, France
GEO:46.190742;6.318169
X-APPLE-STRUCTURED-LOCATION;VALUE=URI;X-ADDRESS= \, Lucinges\, Région Rhô
 ne-Alpes\, 74380\, Haute-Savoie\, France;X-APPLE-RADIUS=100;X-TITLE=Place 
 des Anciennes Granges:geo:46.190742,6.318169
END:VEVENT
BEGIN:VEVENT
UID:2153@lucinges.fr
DTSTART;TZID=Europe/Paris:20251011T090000
DTEND;TZID=Europe/Paris:20251011T130000
DTSTAMP:20250930T134710Z
URL:https://lucinges.fr/sevader-a-lucinges/culture-et-animation/agenda/oct
 obre-rose-5/
SUMMARY:Octobre Rose
DESCRIPTION:
ATTACH;FMTTYPE=image/jpeg:https://lucinges.fr/wp-content/uploads/2025/09/l
 ucinges-octobrerose-2025-couverture-fb.jpg
CATEGORIES:Événement
LOCATION:Place des Anciennes Granges\,  \, Lucinges\, Région Rhône-Alpes\
 , 74380\, Haute-Savoie\, France
GEO:46.190742;6.318169
X-APPLE-STRUCTURED-LOCATION;VALUE=URI;X-ADDRESS= \, Lucinges\, Région Rhô
 ne-Alpes\, 74380\, Haute-Savoie\, France;X-APPLE-RADIUS=100;X-TITLE=Place 
 des Anciennes Granges:geo:46.190742,6.318169
END:VEVENT
BEGIN:VEVENT
UID:2155@lucinges.fr
DTSTART;TZID=Europe/Paris:20251018T090000
DTEND;TZID=Europe/Paris:20251018T130000
DTSTAMP:20250930T134835Z
URL:https://lucinges.fr/sevader-a-lucinges/culture-et-animation/agenda/oct
 obre-rose-7/
SUMMARY:Octobre Rose
DESCRIPTION:
ATTACH;FMTTYPE=image/jpeg:https://lucinges.fr/wp-content/uploads/2025/09/l
 ucinges-octobrerose-2025-couverture-fb.jpg
CATEGORIES:Événement
LOCATION:Place des Anciennes Granges\,  \, Lucinges\, Région Rhône-Alpes\
 , 74380\, Haute-Savoie\, France
GEO:46.190742;6.318169
X-APPLE-STRUCTURED-LOCATION;VALUE=URI;X-ADDRESS= \, Lucinges\, Région Rhô
 ne-Alpes\, 74380\, Haute-Savoie\, France;X-APPLE-RADIUS=100;X-TITLE=Place 
 des Anciennes Granges:geo:46.190742,6.318169
END:VEVENT
BEGIN:VEVENT
UID:2154@lucinges.fr
DTSTART;TZID=Europe/Paris:20251025T090000
DTEND;TZID=Europe/Paris:20251025T130000
DTSTAMP:20250930T134752Z
URL:https://lucinges.fr/sevader-a-lucinges/culture-et-animation/agenda/oct
 obre-rose-6/
SUMMARY:Octobre Rose
DESCRIPTION:
ATTACH;FMTTYPE=image/jpeg:https://lucinges.fr/wp-content/uploads/2025/09/l
 ucinges-octobrerose-2025-couverture-fb.jpg
CATEGORIES:Événement
LOCATION:Place des Anciennes Granges\,  \, Lucinges\, Région Rhône-Alpes\
 , 74380\, Haute-Savoie\, France
GEO:46.190742;6.318169
X-APPLE-STRUCTURED-LOCATION;VALUE=URI;X-ADDRESS= \, Lucinges\, Région Rhô
 ne-Alpes\, 74380\, Haute-Savoie\, France;X-APPLE-RADIUS=100;X-TITLE=Place 
 des Anciennes Granges:geo:46.190742,6.318169
END:VEVENT
BEGIN:VTIMEZONE
TZID:Europe/Paris
X-LIC-LOCATION:Europe/Paris
BEGIN:DAYLIGHT
DTSTART:20210328T030000
TZOFFSETFROM:+0100
TZOFFSETTO:+0200
TZNAME:CEST
END:DAYLIGHT
BEGIN:STANDARD
DTSTART:20211031T020000
TZOFFSETFROM:+0200
TZOFFSETTO:+0100
TZNAME:CET
END:STANDARD
BEGIN:DAYLIGHT
DTSTART:20220327T030000
TZOFFSETFROM:+0100
TZOFFSETTO:+0200
TZNAME:CEST
END:DAYLIGHT
BEGIN:STANDARD
DTSTART:20221030T020000
TZOFFSETFROM:+0200
TZOFFSETTO:+0100
TZNAME:CET
END:STANDARD
BEGIN:DAYLIGHT
DTSTART:20230326T030000
TZOFFSETFROM:+0100
TZOFFSETTO:+0200
TZNAME:CEST
END:DAYLIGHT
BEGIN:STANDARD
DTSTART:20231029T020000
TZOFFSETFROM:+0200
TZOFFSETTO:+0100
TZNAME:CET
END:STANDARD
BEGIN:DAYLIGHT
DTSTART:20240331T030000
TZOFFSETFROM:+0100
TZOFFSETTO:+0200
TZNAME:CEST
END:DAYLIGHT
BEGIN:STANDARD
DTSTART:20241027T020000
TZOFFSETFROM:+0200
TZOFFSETTO:+0100
TZNAME:CET
END:STANDARD
BEGIN:DAYLIGHT
DTSTART:20250330T030000
TZOFFSETFROM:+0100
TZOFFSETTO:+0200
TZNAME:CEST
END:DAYLIGHT
END:VTIMEZONE
END:VCALENDAR