BEGIN:VCALENDAR
VERSION:2.0
PRODID:-//wp-events-plugin.com//7.2.3.1//EN
TZID:Europe/Paris
X-WR-TIMEZONE:Europe/Paris
BEGIN:VEVENT
UID:2177@lucinges.fr
DTSTART;TZID=Europe/Paris:20260530T120000
DTEND;TZID=Europe/Paris:20260530T140000
DTSTAMP:20260224T084403Z
URL:https://lucinges.fr/sevader-a-lucinges/culture-et-animation/agenda/fet
 e-des-meres-4/
SUMMARY:Fête des mères
DESCRIPTION:La commune de Lucinges propose un évènement festif de 12h à 
 14h.
ATTACH;FMTTYPE=image/jpeg:https://lucinges.fr/wp-content/uploads/2022/07/L
 ogo-esprit-village.jpg
CATEGORIES:Événement
END:VEVENT
BEGIN:VTIMEZONE
TZID:Europe/Paris
X-LIC-LOCATION:Europe/Paris
BEGIN:DAYLIGHT
DTSTART:20260329T030000
TZOFFSETFROM:+0100
TZOFFSETTO:+0200
TZNAME:CEST
END:DAYLIGHT
END:VTIMEZONE
END:VCALENDAR